BEGIN:VCALENDAR
PRODID:-//eluceo/ical//2.0/EN
VERSION:2.0
CALSCALE:GREGORIAN
BEGIN:VEVENT
UID:6ce11aca92ad8d6d8a3137bfa44c274c
DTSTAMP:20260425T114541Z
SUMMARY:Cultural differences Switzerland – USA
DESCRIPTION:Ein Novum in unserem Club. Ein Vortrag in englischer Sprache.  
 Die Unterschiede zwischen der kleinen Schweiz und dem grossen Amerika best
 ehen nicht nur in den Dimensionen und der Sprache\, sondern auch in der Ku
 ltur\, Politik\, Demokratieverständnis\, in der Interpretierung und Durch
 setzung der Gesetze und vieles\, vieles mehr. Nicht verwunderlich\, dass a
 uch im Steuersystem unterschiedliche Ansichten und Verfahren vorhanden sin
 d.\nRelatore/i: Dan Mitry\,  DEA Assistant Country Attaché at the United 
 States Embassy in Bern
URL:https://dielsdorf.rotary2000.ch/it/agenda/show/25875
DTSTART;TZID=Europe/Zurich:20121001T120000
DTEND;TZID=Europe/Zurich:20121001T140000
LOCATION:Hotel Restaurant Löwen
CATEGORIES:Rotary
END:VEVENT
BEGIN:VTIMEZONE
TZID:Europe/Zurich
BEGIN:DAYLIGHT
DTSTART:20121001T120000
TZNAME:CEST
TZOFFSETTO:+0200
TZOFFSETFROM:+0200
END:DAYLIGHT
END:VTIMEZONE
END:VCALENDAR
